BEGIN:VCALENDAR
VERSION:2.0
PRODID:-//Down Syndrome Association of Brevard - ECPv6.15.20//NONSGML v1.0//EN
CALSCALE:GREGORIAN
METHOD:PUBLISH
X-ORIGINAL-URL:https://www.dsabrevard.org
X-WR-CALDESC:Events for Down Syndrome Association of Brevard
REFRESH-INTERVAL;VALUE=DURATION:PT1H
X-Robots-Tag:noindex
X-PUBLISHED-TTL:PT1H
BEGIN:VTIMEZONE
TZID:America/New_York
BEGIN:DAYLIGHT
TZOFFSETFROM:-0500
TZOFFSETTO:-0400
TZNAME:EDT
DTSTART:20260308T070000
END:DAYLIGHT
BEGIN:STANDARD
TZOFFSETFROM:-0400
TZOFFSETTO:-0500
TZNAME:EST
DTSTART:20261101T060000
END:STANDARD
BEGIN:DAYLIGHT
TZOFFSETFROM:-0500
TZOFFSETTO:-0400
TZNAME:EDT
DTSTART:20270314T070000
END:DAYLIGHT
BEGIN:STANDARD
TZOFFSETFROM:-0400
TZOFFSETTO:-0500
TZNAME:EST
DTSTART:20271107T060000
END:STANDARD
BEGIN:DAYLIGHT
TZOFFSETFROM:-0500
TZOFFSETTO:-0400
TZNAME:EDT
DTSTART:20280312T070000
END:DAYLIGHT
BEGIN:STANDARD
TZOFFSETFROM:-0400
TZOFFSETTO:-0500
TZNAME:EST
DTSTART:20281105T060000
END:STANDARD
END:VTIMEZONE
BEGIN:VEVENT
DTSTART;TZID=America/New_York:20270331T104500
DTEND;TZID=America/New_York:20270331T114500
DTSTAMP:20260422T185522
CREATED:20240110T164542Z
LAST-MODIFIED:20260312T183613Z
UID:10002409-1806489900-1806493500@www.dsabrevard.org
SUMMARY:Fitness Class 15+ (A.M)
DESCRIPTION:
URL:https://www.dsabrevard.org/event/adult-fitness-class/2027-03-31/
LOCATION:Trinity Fitness Suntree\, 7245 Waelti Dr Suite 3-7\, Melbourne\, FL\, 32940\, United States
END:VEVENT
BEGIN:VEVENT
DTSTART;TZID=America/New_York:20270407T104500
DTEND;TZID=America/New_York:20270407T114500
DTSTAMP:20260422T185522
CREATED:20240110T164542Z
LAST-MODIFIED:20260312T183613Z
UID:10002410-1807094700-1807098300@www.dsabrevard.org
SUMMARY:Fitness Class 15+ (A.M)
DESCRIPTION:
URL:https://www.dsabrevard.org/event/adult-fitness-class/2027-04-07/
LOCATION:Trinity Fitness Suntree\, 7245 Waelti Dr Suite 3-7\, Melbourne\, FL\, 32940\, United States
END:VEVENT
BEGIN:VEVENT
DTSTART;TZID=America/New_York:20270414T104500
DTEND;TZID=America/New_York:20270414T114500
DTSTAMP:20260422T185522
CREATED:20240110T164542Z
LAST-MODIFIED:20260312T183613Z
UID:10002411-1807699500-1807703100@www.dsabrevard.org
SUMMARY:Fitness Class 15+ (A.M)
DESCRIPTION:
URL:https://www.dsabrevard.org/event/adult-fitness-class/2027-04-14/
LOCATION:Trinity Fitness Suntree\, 7245 Waelti Dr Suite 3-7\, Melbourne\, FL\, 32940\, United States
END:VEVENT
BEGIN:VEVENT
DTSTART;TZID=America/New_York:20270421T104500
DTEND;TZID=America/New_York:20270421T114500
DTSTAMP:20260422T185522
CREATED:20240110T164542Z
LAST-MODIFIED:20260312T183613Z
UID:10002412-1808304300-1808307900@www.dsabrevard.org
SUMMARY:Fitness Class 15+ (A.M)
DESCRIPTION:
URL:https://www.dsabrevard.org/event/adult-fitness-class/2027-04-21/
LOCATION:Trinity Fitness Suntree\, 7245 Waelti Dr Suite 3-7\, Melbourne\, FL\, 32940\, United States
END:VEVENT
BEGIN:VEVENT
DTSTART;TZID=America/New_York:20270428T104500
DTEND;TZID=America/New_York:20270428T114500
DTSTAMP:20260422T185522
CREATED:20240110T164542Z
LAST-MODIFIED:20260312T183613Z
UID:10002413-1808909100-1808912700@www.dsabrevard.org
SUMMARY:Fitness Class 15+ (A.M)
DESCRIPTION:
URL:https://www.dsabrevard.org/event/adult-fitness-class/2027-04-28/
LOCATION:Trinity Fitness Suntree\, 7245 Waelti Dr Suite 3-7\, Melbourne\, FL\, 32940\, United States
END:VEVENT
BEGIN:VEVENT
DTSTART;TZID=America/New_York:20270505T104500
DTEND;TZID=America/New_York:20270505T114500
DTSTAMP:20260422T185522
CREATED:20240110T164542Z
LAST-MODIFIED:20260312T183613Z
UID:10002414-1809513900-1809517500@www.dsabrevard.org
SUMMARY:Fitness Class 15+ (A.M)
DESCRIPTION:
URL:https://www.dsabrevard.org/event/adult-fitness-class/2027-05-05/
LOCATION:Trinity Fitness Suntree\, 7245 Waelti Dr Suite 3-7\, Melbourne\, FL\, 32940\, United States
END:VEVENT
BEGIN:VEVENT
DTSTART;TZID=America/New_York:20270512T104500
DTEND;TZID=America/New_York:20270512T114500
DTSTAMP:20260422T185522
CREATED:20240110T164542Z
LAST-MODIFIED:20260312T183613Z
UID:10002415-1810118700-1810122300@www.dsabrevard.org
SUMMARY:Fitness Class 15+ (A.M)
DESCRIPTION:
URL:https://www.dsabrevard.org/event/adult-fitness-class/2027-05-12/
LOCATION:Trinity Fitness Suntree\, 7245 Waelti Dr Suite 3-7\, Melbourne\, FL\, 32940\, United States
END:VEVENT
BEGIN:VEVENT
DTSTART;TZID=America/New_York:20270519T104500
DTEND;TZID=America/New_York:20270519T114500
DTSTAMP:20260422T185522
CREATED:20240110T164542Z
LAST-MODIFIED:20260312T183613Z
UID:10002416-1810723500-1810727100@www.dsabrevard.org
SUMMARY:Fitness Class 15+ (A.M)
DESCRIPTION:
URL:https://www.dsabrevard.org/event/adult-fitness-class/2027-05-19/
LOCATION:Trinity Fitness Suntree\, 7245 Waelti Dr Suite 3-7\, Melbourne\, FL\, 32940\, United States
END:VEVENT
BEGIN:VEVENT
DTSTART;TZID=America/New_York:20270526T104500
DTEND;TZID=America/New_York:20270526T114500
DTSTAMP:20260422T185522
CREATED:20240110T164542Z
LAST-MODIFIED:20260312T183613Z
UID:10002417-1811328300-1811331900@www.dsabrevard.org
SUMMARY:Fitness Class 15+ (A.M)
DESCRIPTION:
URL:https://www.dsabrevard.org/event/adult-fitness-class/2027-05-26/
LOCATION:Trinity Fitness Suntree\, 7245 Waelti Dr Suite 3-7\, Melbourne\, FL\, 32940\, United States
END:VEVENT
BEGIN:VEVENT
DTSTART;TZID=America/New_York:20270602T104500
DTEND;TZID=America/New_York:20270602T114500
DTSTAMP:20260422T185522
CREATED:20240110T164542Z
LAST-MODIFIED:20260312T183613Z
UID:10002418-1811933100-1811936700@www.dsabrevard.org
SUMMARY:Fitness Class 15+ (A.M)
DESCRIPTION:
URL:https://www.dsabrevard.org/event/adult-fitness-class/2027-06-02/
LOCATION:Trinity Fitness Suntree\, 7245 Waelti Dr Suite 3-7\, Melbourne\, FL\, 32940\, United States
END:VEVENT
BEGIN:VEVENT
DTSTART;TZID=America/New_York:20270609T104500
DTEND;TZID=America/New_York:20270609T114500
DTSTAMP:20260422T185522
CREATED:20240110T164542Z
LAST-MODIFIED:20260312T183613Z
UID:10002419-1812537900-1812541500@www.dsabrevard.org
SUMMARY:Fitness Class 15+ (A.M)
DESCRIPTION:
URL:https://www.dsabrevard.org/event/adult-fitness-class/2027-06-09/
LOCATION:Trinity Fitness Suntree\, 7245 Waelti Dr Suite 3-7\, Melbourne\, FL\, 32940\, United States
END:VEVENT
BEGIN:VEVENT
DTSTART;TZID=America/New_York:20270616T104500
DTEND;TZID=America/New_York:20270616T114500
DTSTAMP:20260422T185522
CREATED:20240110T164542Z
LAST-MODIFIED:20260312T183613Z
UID:10002420-1813142700-1813146300@www.dsabrevard.org
SUMMARY:Fitness Class 15+ (A.M)
DESCRIPTION:
URL:https://www.dsabrevard.org/event/adult-fitness-class/2027-06-16/
LOCATION:Trinity Fitness Suntree\, 7245 Waelti Dr Suite 3-7\, Melbourne\, FL\, 32940\, United States
END:VEVENT
BEGIN:VEVENT
DTSTART;TZID=America/New_York:20270623T104500
DTEND;TZID=America/New_York:20270623T114500
DTSTAMP:20260422T185522
CREATED:20240110T164542Z
LAST-MODIFIED:20260312T183613Z
UID:10002421-1813747500-1813751100@www.dsabrevard.org
SUMMARY:Fitness Class 15+ (A.M)
DESCRIPTION:
URL:https://www.dsabrevard.org/event/adult-fitness-class/2027-06-23/
LOCATION:Trinity Fitness Suntree\, 7245 Waelti Dr Suite 3-7\, Melbourne\, FL\, 32940\, United States
END:VEVENT
BEGIN:VEVENT
DTSTART;TZID=America/New_York:20270630T104500
DTEND;TZID=America/New_York:20270630T114500
DTSTAMP:20260422T185522
CREATED:20240110T164542Z
LAST-MODIFIED:20260312T183613Z
UID:10002422-1814352300-1814355900@www.dsabrevard.org
SUMMARY:Fitness Class 15+ (A.M)
DESCRIPTION:
URL:https://www.dsabrevard.org/event/adult-fitness-class/2027-06-30/
LOCATION:Trinity Fitness Suntree\, 7245 Waelti Dr Suite 3-7\, Melbourne\, FL\, 32940\, United States
END:VEVENT
BEGIN:VEVENT
DTSTART;TZID=America/New_York:20270707T104500
DTEND;TZID=America/New_York:20270707T114500
DTSTAMP:20260422T185522
CREATED:20240110T164542Z
LAST-MODIFIED:20260312T183613Z
UID:10002423-1814957100-1814960700@www.dsabrevard.org
SUMMARY:Fitness Class 15+ (A.M)
DESCRIPTION:
URL:https://www.dsabrevard.org/event/adult-fitness-class/2027-07-07/
LOCATION:Trinity Fitness Suntree\, 7245 Waelti Dr Suite 3-7\, Melbourne\, FL\, 32940\, United States
END:VEVENT
BEGIN:VEVENT
DTSTART;TZID=America/New_York:20270714T104500
DTEND;TZID=America/New_York:20270714T114500
DTSTAMP:20260422T185522
CREATED:20240110T164542Z
LAST-MODIFIED:20260312T183613Z
UID:10002424-1815561900-1815565500@www.dsabrevard.org
SUMMARY:Fitness Class 15+ (A.M)
DESCRIPTION:
URL:https://www.dsabrevard.org/event/adult-fitness-class/2027-07-14/
LOCATION:Trinity Fitness Suntree\, 7245 Waelti Dr Suite 3-7\, Melbourne\, FL\, 32940\, United States
END:VEVENT
BEGIN:VEVENT
DTSTART;TZID=America/New_York:20270721T104500
DTEND;TZID=America/New_York:20270721T114500
DTSTAMP:20260422T185522
CREATED:20240110T164542Z
LAST-MODIFIED:20260312T183613Z
UID:10002425-1816166700-1816170300@www.dsabrevard.org
SUMMARY:Fitness Class 15+ (A.M)
DESCRIPTION:
URL:https://www.dsabrevard.org/event/adult-fitness-class/2027-07-21/
LOCATION:Trinity Fitness Suntree\, 7245 Waelti Dr Suite 3-7\, Melbourne\, FL\, 32940\, United States
END:VEVENT
BEGIN:VEVENT
DTSTART;TZID=America/New_York:20270728T104500
DTEND;TZID=America/New_York:20270728T114500
DTSTAMP:20260422T185522
CREATED:20240110T164542Z
LAST-MODIFIED:20260312T183613Z
UID:10002426-1816771500-1816775100@www.dsabrevard.org
SUMMARY:Fitness Class 15+ (A.M)
DESCRIPTION:
URL:https://www.dsabrevard.org/event/adult-fitness-class/2027-07-28/
LOCATION:Trinity Fitness Suntree\, 7245 Waelti Dr Suite 3-7\, Melbourne\, FL\, 32940\, United States
END:VEVENT
BEGIN:VEVENT
DTSTART;TZID=America/New_York:20270804T104500
DTEND;TZID=America/New_York:20270804T114500
DTSTAMP:20260422T185522
CREATED:20240110T164542Z
LAST-MODIFIED:20260312T183613Z
UID:10002427-1817376300-1817379900@www.dsabrevard.org
SUMMARY:Fitness Class 15+ (A.M)
DESCRIPTION:
URL:https://www.dsabrevard.org/event/adult-fitness-class/2027-08-04/
LOCATION:Trinity Fitness Suntree\, 7245 Waelti Dr Suite 3-7\, Melbourne\, FL\, 32940\, United States
END:VEVENT
BEGIN:VEVENT
DTSTART;TZID=America/New_York:20270811T104500
DTEND;TZID=America/New_York:20270811T114500
DTSTAMP:20260422T185522
CREATED:20240110T164542Z
LAST-MODIFIED:20260312T183613Z
UID:10002428-1817981100-1817984700@www.dsabrevard.org
SUMMARY:Fitness Class 15+ (A.M)
DESCRIPTION:
URL:https://www.dsabrevard.org/event/adult-fitness-class/2027-08-11/
LOCATION:Trinity Fitness Suntree\, 7245 Waelti Dr Suite 3-7\, Melbourne\, FL\, 32940\, United States
END:VEVENT
BEGIN:VEVENT
DTSTART;TZID=America/New_York:20270818T104500
DTEND;TZID=America/New_York:20270818T114500
DTSTAMP:20260422T185522
CREATED:20240110T164542Z
LAST-MODIFIED:20260312T183613Z
UID:10002429-1818585900-1818589500@www.dsabrevard.org
SUMMARY:Fitness Class 15+ (A.M)
DESCRIPTION:
URL:https://www.dsabrevard.org/event/adult-fitness-class/2027-08-18/
LOCATION:Trinity Fitness Suntree\, 7245 Waelti Dr Suite 3-7\, Melbourne\, FL\, 32940\, United States
END:VEVENT
BEGIN:VEVENT
DTSTART;TZID=America/New_York:20270825T104500
DTEND;TZID=America/New_York:20270825T114500
DTSTAMP:20260422T185522
CREATED:20240110T164542Z
LAST-MODIFIED:20260312T183613Z
UID:10002430-1819190700-1819194300@www.dsabrevard.org
SUMMARY:Fitness Class 15+ (A.M)
DESCRIPTION:
URL:https://www.dsabrevard.org/event/adult-fitness-class/2027-08-25/
LOCATION:Trinity Fitness Suntree\, 7245 Waelti Dr Suite 3-7\, Melbourne\, FL\, 32940\, United States
END:VEVENT
BEGIN:VEVENT
DTSTART;TZID=America/New_York:20270901T104500
DTEND;TZID=America/New_York:20270901T114500
DTSTAMP:20260422T185522
CREATED:20240110T164542Z
LAST-MODIFIED:20260312T183613Z
UID:10002431-1819795500-1819799100@www.dsabrevard.org
SUMMARY:Fitness Class 15+ (A.M)
DESCRIPTION:
URL:https://www.dsabrevard.org/event/adult-fitness-class/2027-09-01/
LOCATION:Trinity Fitness Suntree\, 7245 Waelti Dr Suite 3-7\, Melbourne\, FL\, 32940\, United States
END:VEVENT
BEGIN:VEVENT
DTSTART;TZID=America/New_York:20270908T104500
DTEND;TZID=America/New_York:20270908T114500
DTSTAMP:20260422T185522
CREATED:20240110T164542Z
LAST-MODIFIED:20260312T183613Z
UID:10002432-1820400300-1820403900@www.dsabrevard.org
SUMMARY:Fitness Class 15+ (A.M)
DESCRIPTION:
URL:https://www.dsabrevard.org/event/adult-fitness-class/2027-09-08/
LOCATION:Trinity Fitness Suntree\, 7245 Waelti Dr Suite 3-7\, Melbourne\, FL\, 32940\, United States
END:VEVENT
BEGIN:VEVENT
DTSTART;TZID=America/New_York:20270915T104500
DTEND;TZID=America/New_York:20270915T114500
DTSTAMP:20260422T185522
CREATED:20240110T164542Z
LAST-MODIFIED:20260312T183613Z
UID:10002433-1821005100-1821008700@www.dsabrevard.org
SUMMARY:Fitness Class 15+ (A.M)
DESCRIPTION:
URL:https://www.dsabrevard.org/event/adult-fitness-class/2027-09-15/
LOCATION:Trinity Fitness Suntree\, 7245 Waelti Dr Suite 3-7\, Melbourne\, FL\, 32940\, United States
END:VEVENT
BEGIN:VEVENT
DTSTART;TZID=America/New_York:20270922T104500
DTEND;TZID=America/New_York:20270922T114500
DTSTAMP:20260422T185523
CREATED:20240110T164542Z
LAST-MODIFIED:20260312T183613Z
UID:10002434-1821609900-1821613500@www.dsabrevard.org
SUMMARY:Fitness Class 15+ (A.M)
DESCRIPTION:
URL:https://www.dsabrevard.org/event/adult-fitness-class/2027-09-22/
LOCATION:Trinity Fitness Suntree\, 7245 Waelti Dr Suite 3-7\, Melbourne\, FL\, 32940\, United States
END:VEVENT
BEGIN:VEVENT
DTSTART;TZID=America/New_York:20270929T104500
DTEND;TZID=America/New_York:20270929T114500
DTSTAMP:20260422T185523
CREATED:20240110T164542Z
LAST-MODIFIED:20260312T183613Z
UID:10002435-1822214700-1822218300@www.dsabrevard.org
SUMMARY:Fitness Class 15+ (A.M)
DESCRIPTION:
URL:https://www.dsabrevard.org/event/adult-fitness-class/2027-09-29/
LOCATION:Trinity Fitness Suntree\, 7245 Waelti Dr Suite 3-7\, Melbourne\, FL\, 32940\, United States
END:VEVENT
BEGIN:VEVENT
DTSTART;TZID=America/New_York:20271006T104500
DTEND;TZID=America/New_York:20271006T114500
DTSTAMP:20260422T185523
CREATED:20240110T164542Z
LAST-MODIFIED:20260312T183613Z
UID:10002436-1822819500-1822823100@www.dsabrevard.org
SUMMARY:Fitness Class 15+ (A.M)
DESCRIPTION:
URL:https://www.dsabrevard.org/event/adult-fitness-class/2027-10-06/
LOCATION:Trinity Fitness Suntree\, 7245 Waelti Dr Suite 3-7\, Melbourne\, FL\, 32940\, United States
END:VEVENT
BEGIN:VEVENT
DTSTART;TZID=America/New_York:20271013T104500
DTEND;TZID=America/New_York:20271013T114500
DTSTAMP:20260422T185523
CREATED:20240110T164542Z
LAST-MODIFIED:20260312T183613Z
UID:10002437-1823424300-1823427900@www.dsabrevard.org
SUMMARY:Fitness Class 15+ (A.M)
DESCRIPTION:
URL:https://www.dsabrevard.org/event/adult-fitness-class/2027-10-13/
LOCATION:Trinity Fitness Suntree\, 7245 Waelti Dr Suite 3-7\, Melbourne\, FL\, 32940\, United States
END:VEVENT
BEGIN:VEVENT
DTSTART;TZID=America/New_York:20271020T104500
DTEND;TZID=America/New_York:20271020T114500
DTSTAMP:20260422T185523
CREATED:20240110T164542Z
LAST-MODIFIED:20260312T183613Z
UID:10002438-1824029100-1824032700@www.dsabrevard.org
SUMMARY:Fitness Class 15+ (A.M)
DESCRIPTION:
URL:https://www.dsabrevard.org/event/adult-fitness-class/2027-10-20/
LOCATION:Trinity Fitness Suntree\, 7245 Waelti Dr Suite 3-7\, Melbourne\, FL\, 32940\, United States
END:VEVENT
END:VCALENDAR