BEGIN:VCALENDAR
VERSION:2.0
PRODID:-//Down Syndrome Association of Brevard - ECPv6.15.20//NONSGML v1.0//EN
CALSCALE:GREGORIAN
METHOD:PUBLISH
X-ORIGINAL-URL:https://www.dsabrevard.org
X-WR-CALDESC:Events for Down Syndrome Association of Brevard
REFRESH-INTERVAL;VALUE=DURATION:PT1H
X-Robots-Tag:noindex
X-PUBLISHED-TTL:PT1H
BEGIN:VTIMEZONE
TZID:America/New_York
BEGIN:DAYLIGHT
TZOFFSETFROM:-0500
TZOFFSETTO:-0400
TZNAME:EDT
DTSTART:20280312T070000
END:DAYLIGHT
BEGIN:STANDARD
TZOFFSETFROM:-0400
TZOFFSETTO:-0500
TZNAME:EST
DTSTART:20281105T060000
END:STANDARD
BEGIN:DAYLIGHT
TZOFFSETFROM:-0500
TZOFFSETTO:-0400
TZNAME:EDT
DTSTART:20290311T070000
END:DAYLIGHT
BEGIN:STANDARD
TZOFFSETFROM:-0400
TZOFFSETTO:-0500
TZNAME:EST
DTSTART:20291104T060000
END:STANDARD
BEGIN:DAYLIGHT
TZOFFSETFROM:-0500
TZOFFSETTO:-0400
TZNAME:EDT
DTSTART:20300310T070000
END:DAYLIGHT
BEGIN:STANDARD
TZOFFSETFROM:-0400
TZOFFSETTO:-0500
TZNAME:EST
DTSTART:20301103T060000
END:STANDARD
BEGIN:DAYLIGHT
TZOFFSETFROM:-0500
TZOFFSETTO:-0400
TZNAME:EDT
DTSTART:20310309T070000
END:DAYLIGHT
BEGIN:STANDARD
TZOFFSETFROM:-0400
TZOFFSETTO:-0500
TZNAME:EST
DTSTART:20311102T060000
END:STANDARD
END:VTIMEZONE
BEGIN:VEVENT
DTSTART;TZID=America/New_York:20290718T104500
DTEND;TZID=America/New_York:20290718T114500
DTSTAMP:20260425T153425
CREATED:20240110T164542Z
LAST-MODIFIED:20260312T183613Z
UID:10003571-1879065900-1879069500@www.dsabrevard.org
SUMMARY:Fitness Class 15+ (A.M)
DESCRIPTION:
URL:https://www.dsabrevard.org/event/adult-fitness-class/2029-07-18/
LOCATION:Trinity Fitness Suntree\, 7245 Waelti Dr Suite 3-7\, Melbourne\, FL\, 32940\, United States
END:VEVENT
BEGIN:VEVENT
DTSTART;TZID=America/New_York:20290725T104500
DTEND;TZID=America/New_York:20290725T114500
DTSTAMP:20260425T153425
CREATED:20240110T164542Z
LAST-MODIFIED:20260312T183613Z
UID:10003572-1879670700-1879674300@www.dsabrevard.org
SUMMARY:Fitness Class 15+ (A.M)
DESCRIPTION:
URL:https://www.dsabrevard.org/event/adult-fitness-class/2029-07-25/
LOCATION:Trinity Fitness Suntree\, 7245 Waelti Dr Suite 3-7\, Melbourne\, FL\, 32940\, United States
END:VEVENT
BEGIN:VEVENT
DTSTART;TZID=America/New_York:20290801T104500
DTEND;TZID=America/New_York:20290801T114500
DTSTAMP:20260425T153425
CREATED:20240110T164542Z
LAST-MODIFIED:20260312T183613Z
UID:10003573-1880275500-1880279100@www.dsabrevard.org
SUMMARY:Fitness Class 15+ (A.M)
DESCRIPTION:
URL:https://www.dsabrevard.org/event/adult-fitness-class/2029-08-01/
LOCATION:Trinity Fitness Suntree\, 7245 Waelti Dr Suite 3-7\, Melbourne\, FL\, 32940\, United States
END:VEVENT
BEGIN:VEVENT
DTSTART;TZID=America/New_York:20290808T104500
DTEND;TZID=America/New_York:20290808T114500
DTSTAMP:20260425T153425
CREATED:20240110T164542Z
LAST-MODIFIED:20260312T183613Z
UID:10003574-1880880300-1880883900@www.dsabrevard.org
SUMMARY:Fitness Class 15+ (A.M)
DESCRIPTION:
URL:https://www.dsabrevard.org/event/adult-fitness-class/2029-08-08/
LOCATION:Trinity Fitness Suntree\, 7245 Waelti Dr Suite 3-7\, Melbourne\, FL\, 32940\, United States
END:VEVENT
BEGIN:VEVENT
DTSTART;TZID=America/New_York:20290815T104500
DTEND;TZID=America/New_York:20290815T114500
DTSTAMP:20260425T153425
CREATED:20240110T164542Z
LAST-MODIFIED:20260312T183613Z
UID:10003575-1881485100-1881488700@www.dsabrevard.org
SUMMARY:Fitness Class 15+ (A.M)
DESCRIPTION:
URL:https://www.dsabrevard.org/event/adult-fitness-class/2029-08-15/
LOCATION:Trinity Fitness Suntree\, 7245 Waelti Dr Suite 3-7\, Melbourne\, FL\, 32940\, United States
END:VEVENT
BEGIN:VEVENT
DTSTART;TZID=America/New_York:20290822T104500
DTEND;TZID=America/New_York:20290822T114500
DTSTAMP:20260425T153425
CREATED:20240110T164542Z
LAST-MODIFIED:20260312T183613Z
UID:10003576-1882089900-1882093500@www.dsabrevard.org
SUMMARY:Fitness Class 15+ (A.M)
DESCRIPTION:
URL:https://www.dsabrevard.org/event/adult-fitness-class/2029-08-22/
LOCATION:Trinity Fitness Suntree\, 7245 Waelti Dr Suite 3-7\, Melbourne\, FL\, 32940\, United States
END:VEVENT
BEGIN:VEVENT
DTSTART;TZID=America/New_York:20290829T104500
DTEND;TZID=America/New_York:20290829T114500
DTSTAMP:20260425T153425
CREATED:20240110T164542Z
LAST-MODIFIED:20260312T183613Z
UID:10003577-1882694700-1882698300@www.dsabrevard.org
SUMMARY:Fitness Class 15+ (A.M)
DESCRIPTION:
URL:https://www.dsabrevard.org/event/adult-fitness-class/2029-08-29/
LOCATION:Trinity Fitness Suntree\, 7245 Waelti Dr Suite 3-7\, Melbourne\, FL\, 32940\, United States
END:VEVENT
BEGIN:VEVENT
DTSTART;TZID=America/New_York:20290905T104500
DTEND;TZID=America/New_York:20290905T114500
DTSTAMP:20260425T153425
CREATED:20240110T164542Z
LAST-MODIFIED:20260312T183613Z
UID:10003578-1883299500-1883303100@www.dsabrevard.org
SUMMARY:Fitness Class 15+ (A.M)
DESCRIPTION:
URL:https://www.dsabrevard.org/event/adult-fitness-class/2029-09-05/
LOCATION:Trinity Fitness Suntree\, 7245 Waelti Dr Suite 3-7\, Melbourne\, FL\, 32940\, United States
END:VEVENT
BEGIN:VEVENT
DTSTART;TZID=America/New_York:20290912T104500
DTEND;TZID=America/New_York:20290912T114500
DTSTAMP:20260425T153425
CREATED:20240110T164542Z
LAST-MODIFIED:20260312T183613Z
UID:10003579-1883904300-1883907900@www.dsabrevard.org
SUMMARY:Fitness Class 15+ (A.M)
DESCRIPTION:
URL:https://www.dsabrevard.org/event/adult-fitness-class/2029-09-12/
LOCATION:Trinity Fitness Suntree\, 7245 Waelti Dr Suite 3-7\, Melbourne\, FL\, 32940\, United States
END:VEVENT
BEGIN:VEVENT
DTSTART;TZID=America/New_York:20290919T104500
DTEND;TZID=America/New_York:20290919T114500
DTSTAMP:20260425T153425
CREATED:20240110T164542Z
LAST-MODIFIED:20260312T183613Z
UID:10003580-1884509100-1884512700@www.dsabrevard.org
SUMMARY:Fitness Class 15+ (A.M)
DESCRIPTION:
URL:https://www.dsabrevard.org/event/adult-fitness-class/2029-09-19/
LOCATION:Trinity Fitness Suntree\, 7245 Waelti Dr Suite 3-7\, Melbourne\, FL\, 32940\, United States
END:VEVENT
BEGIN:VEVENT
DTSTART;TZID=America/New_York:20290926T104500
DTEND;TZID=America/New_York:20290926T114500
DTSTAMP:20260425T153425
CREATED:20240110T164542Z
LAST-MODIFIED:20260312T183613Z
UID:10003581-1885113900-1885117500@www.dsabrevard.org
SUMMARY:Fitness Class 15+ (A.M)
DESCRIPTION:
URL:https://www.dsabrevard.org/event/adult-fitness-class/2029-09-26/
LOCATION:Trinity Fitness Suntree\, 7245 Waelti Dr Suite 3-7\, Melbourne\, FL\, 32940\, United States
END:VEVENT
BEGIN:VEVENT
DTSTART;TZID=America/New_York:20291003T104500
DTEND;TZID=America/New_York:20291003T114500
DTSTAMP:20260425T153425
CREATED:20240110T164542Z
LAST-MODIFIED:20260312T183613Z
UID:10003582-1885718700-1885722300@www.dsabrevard.org
SUMMARY:Fitness Class 15+ (A.M)
DESCRIPTION:
URL:https://www.dsabrevard.org/event/adult-fitness-class/2029-10-03/
LOCATION:Trinity Fitness Suntree\, 7245 Waelti Dr Suite 3-7\, Melbourne\, FL\, 32940\, United States
END:VEVENT
BEGIN:VEVENT
DTSTART;TZID=America/New_York:20291010T104500
DTEND;TZID=America/New_York:20291010T114500
DTSTAMP:20260425T153425
CREATED:20240110T164542Z
LAST-MODIFIED:20260312T183613Z
UID:10003583-1886323500-1886327100@www.dsabrevard.org
SUMMARY:Fitness Class 15+ (A.M)
DESCRIPTION:
URL:https://www.dsabrevard.org/event/adult-fitness-class/2029-10-10/
LOCATION:Trinity Fitness Suntree\, 7245 Waelti Dr Suite 3-7\, Melbourne\, FL\, 32940\, United States
END:VEVENT
BEGIN:VEVENT
DTSTART;TZID=America/New_York:20291017T104500
DTEND;TZID=America/New_York:20291017T114500
DTSTAMP:20260425T153425
CREATED:20240110T164542Z
LAST-MODIFIED:20260312T183613Z
UID:10003584-1886928300-1886931900@www.dsabrevard.org
SUMMARY:Fitness Class 15+ (A.M)
DESCRIPTION:
URL:https://www.dsabrevard.org/event/adult-fitness-class/2029-10-17/
LOCATION:Trinity Fitness Suntree\, 7245 Waelti Dr Suite 3-7\, Melbourne\, FL\, 32940\, United States
END:VEVENT
BEGIN:VEVENT
DTSTART;TZID=America/New_York:20291024T104500
DTEND;TZID=America/New_York:20291024T114500
DTSTAMP:20260425T153425
CREATED:20240110T164542Z
LAST-MODIFIED:20260312T183613Z
UID:10003585-1887533100-1887536700@www.dsabrevard.org
SUMMARY:Fitness Class 15+ (A.M)
DESCRIPTION:
URL:https://www.dsabrevard.org/event/adult-fitness-class/2029-10-24/
LOCATION:Trinity Fitness Suntree\, 7245 Waelti Dr Suite 3-7\, Melbourne\, FL\, 32940\, United States
END:VEVENT
BEGIN:VEVENT
DTSTART;TZID=America/New_York:20291031T104500
DTEND;TZID=America/New_York:20291031T114500
DTSTAMP:20260425T153425
CREATED:20240110T164542Z
LAST-MODIFIED:20260312T183613Z
UID:10003586-1888137900-1888141500@www.dsabrevard.org
SUMMARY:Fitness Class 15+ (A.M)
DESCRIPTION:
URL:https://www.dsabrevard.org/event/adult-fitness-class/2029-10-31/
LOCATION:Trinity Fitness Suntree\, 7245 Waelti Dr Suite 3-7\, Melbourne\, FL\, 32940\, United States
END:VEVENT
BEGIN:VEVENT
DTSTART;TZID=America/New_York:20291107T104500
DTEND;TZID=America/New_York:20291107T114500
DTSTAMP:20260425T153425
CREATED:20240110T164542Z
LAST-MODIFIED:20260312T183613Z
UID:10003587-1888742700-1888746300@www.dsabrevard.org
SUMMARY:Fitness Class 15+ (A.M)
DESCRIPTION:
URL:https://www.dsabrevard.org/event/adult-fitness-class/2029-11-07/
LOCATION:Trinity Fitness Suntree\, 7245 Waelti Dr Suite 3-7\, Melbourne\, FL\, 32940\, United States
END:VEVENT
BEGIN:VEVENT
DTSTART;TZID=America/New_York:20291114T104500
DTEND;TZID=America/New_York:20291114T114500
DTSTAMP:20260425T153425
CREATED:20240110T164542Z
LAST-MODIFIED:20260312T183613Z
UID:10003588-1889347500-1889351100@www.dsabrevard.org
SUMMARY:Fitness Class 15+ (A.M)
DESCRIPTION:
URL:https://www.dsabrevard.org/event/adult-fitness-class/2029-11-14/
LOCATION:Trinity Fitness Suntree\, 7245 Waelti Dr Suite 3-7\, Melbourne\, FL\, 32940\, United States
END:VEVENT
BEGIN:VEVENT
DTSTART;TZID=America/New_York:20291121T104500
DTEND;TZID=America/New_York:20291121T114500
DTSTAMP:20260425T153425
CREATED:20240110T164542Z
LAST-MODIFIED:20260312T183613Z
UID:10003589-1889952300-1889955900@www.dsabrevard.org
SUMMARY:Fitness Class 15+ (A.M)
DESCRIPTION:
URL:https://www.dsabrevard.org/event/adult-fitness-class/2029-11-21/
LOCATION:Trinity Fitness Suntree\, 7245 Waelti Dr Suite 3-7\, Melbourne\, FL\, 32940\, United States
END:VEVENT
BEGIN:VEVENT
DTSTART;TZID=America/New_York:20291128T104500
DTEND;TZID=America/New_York:20291128T114500
DTSTAMP:20260425T153425
CREATED:20240110T164542Z
LAST-MODIFIED:20260312T183613Z
UID:10003590-1890557100-1890560700@www.dsabrevard.org
SUMMARY:Fitness Class 15+ (A.M)
DESCRIPTION:
URL:https://www.dsabrevard.org/event/adult-fitness-class/2029-11-28/
LOCATION:Trinity Fitness Suntree\, 7245 Waelti Dr Suite 3-7\, Melbourne\, FL\, 32940\, United States
END:VEVENT
BEGIN:VEVENT
DTSTART;TZID=America/New_York:20291205T104500
DTEND;TZID=America/New_York:20291205T114500
DTSTAMP:20260425T153425
CREATED:20240110T164542Z
LAST-MODIFIED:20260312T183613Z
UID:10003591-1891161900-1891165500@www.dsabrevard.org
SUMMARY:Fitness Class 15+ (A.M)
DESCRIPTION:
URL:https://www.dsabrevard.org/event/adult-fitness-class/2029-12-05/
LOCATION:Trinity Fitness Suntree\, 7245 Waelti Dr Suite 3-7\, Melbourne\, FL\, 32940\, United States
END:VEVENT
BEGIN:VEVENT
DTSTART;TZID=America/New_York:20291212T104500
DTEND;TZID=America/New_York:20291212T114500
DTSTAMP:20260425T153425
CREATED:20240110T164542Z
LAST-MODIFIED:20260312T183613Z
UID:10003592-1891766700-1891770300@www.dsabrevard.org
SUMMARY:Fitness Class 15+ (A.M)
DESCRIPTION:
URL:https://www.dsabrevard.org/event/adult-fitness-class/2029-12-12/
LOCATION:Trinity Fitness Suntree\, 7245 Waelti Dr Suite 3-7\, Melbourne\, FL\, 32940\, United States
END:VEVENT
BEGIN:VEVENT
DTSTART;TZID=America/New_York:20291219T104500
DTEND;TZID=America/New_York:20291219T114500
DTSTAMP:20260425T153425
CREATED:20240110T164542Z
LAST-MODIFIED:20260312T183613Z
UID:10003593-1892371500-1892375100@www.dsabrevard.org
SUMMARY:Fitness Class 15+ (A.M)
DESCRIPTION:
URL:https://www.dsabrevard.org/event/adult-fitness-class/2029-12-19/
LOCATION:Trinity Fitness Suntree\, 7245 Waelti Dr Suite 3-7\, Melbourne\, FL\, 32940\, United States
END:VEVENT
BEGIN:VEVENT
DTSTART;TZID=America/New_York:20291226T104500
DTEND;TZID=America/New_York:20291226T114500
DTSTAMP:20260425T153425
CREATED:20240110T164542Z
LAST-MODIFIED:20260312T183613Z
UID:10003594-1892976300-1892979900@www.dsabrevard.org
SUMMARY:Fitness Class 15+ (A.M)
DESCRIPTION:
URL:https://www.dsabrevard.org/event/adult-fitness-class/2029-12-26/
LOCATION:Trinity Fitness Suntree\, 7245 Waelti Dr Suite 3-7\, Melbourne\, FL\, 32940\, United States
END:VEVENT
BEGIN:VEVENT
DTSTART;TZID=America/New_York:20300102T104500
DTEND;TZID=America/New_York:20300102T114500
DTSTAMP:20260425T153425
CREATED:20240110T164542Z
LAST-MODIFIED:20260312T183613Z
UID:10003595-1893581100-1893584700@www.dsabrevard.org
SUMMARY:Fitness Class 15+ (A.M)
DESCRIPTION:
URL:https://www.dsabrevard.org/event/adult-fitness-class/2030-01-02/
LOCATION:Trinity Fitness Suntree\, 7245 Waelti Dr Suite 3-7\, Melbourne\, FL\, 32940\, United States
END:VEVENT
BEGIN:VEVENT
DTSTART;TZID=America/New_York:20300109T104500
DTEND;TZID=America/New_York:20300109T114500
DTSTAMP:20260425T153425
CREATED:20240110T164542Z
LAST-MODIFIED:20260312T183613Z
UID:10003596-1894185900-1894189500@www.dsabrevard.org
SUMMARY:Fitness Class 15+ (A.M)
DESCRIPTION:
URL:https://www.dsabrevard.org/event/adult-fitness-class/2030-01-09/
LOCATION:Trinity Fitness Suntree\, 7245 Waelti Dr Suite 3-7\, Melbourne\, FL\, 32940\, United States
END:VEVENT
BEGIN:VEVENT
DTSTART;TZID=America/New_York:20300116T104500
DTEND;TZID=America/New_York:20300116T114500
DTSTAMP:20260425T153425
CREATED:20240110T164542Z
LAST-MODIFIED:20260312T183613Z
UID:10003597-1894790700-1894794300@www.dsabrevard.org
SUMMARY:Fitness Class 15+ (A.M)
DESCRIPTION:
URL:https://www.dsabrevard.org/event/adult-fitness-class/2030-01-16/
LOCATION:Trinity Fitness Suntree\, 7245 Waelti Dr Suite 3-7\, Melbourne\, FL\, 32940\, United States
END:VEVENT
BEGIN:VEVENT
DTSTART;TZID=America/New_York:20300123T104500
DTEND;TZID=America/New_York:20300123T114500
DTSTAMP:20260425T153425
CREATED:20240110T164542Z
LAST-MODIFIED:20260312T183613Z
UID:10003598-1895395500-1895399100@www.dsabrevard.org
SUMMARY:Fitness Class 15+ (A.M)
DESCRIPTION:
URL:https://www.dsabrevard.org/event/adult-fitness-class/2030-01-23/
LOCATION:Trinity Fitness Suntree\, 7245 Waelti Dr Suite 3-7\, Melbourne\, FL\, 32940\, United States
END:VEVENT
BEGIN:VEVENT
DTSTART;TZID=America/New_York:20300130T104500
DTEND;TZID=America/New_York:20300130T114500
DTSTAMP:20260425T153425
CREATED:20240110T164542Z
LAST-MODIFIED:20260312T183613Z
UID:10003599-1896000300-1896003900@www.dsabrevard.org
SUMMARY:Fitness Class 15+ (A.M)
DESCRIPTION:
URL:https://www.dsabrevard.org/event/adult-fitness-class/2030-01-30/
LOCATION:Trinity Fitness Suntree\, 7245 Waelti Dr Suite 3-7\, Melbourne\, FL\, 32940\, United States
END:VEVENT
BEGIN:VEVENT
DTSTART;TZID=America/New_York:20300206T104500
DTEND;TZID=America/New_York:20300206T114500
DTSTAMP:20260425T153425
CREATED:20240110T164542Z
LAST-MODIFIED:20260312T183613Z
UID:10003600-1896605100-1896608700@www.dsabrevard.org
SUMMARY:Fitness Class 15+ (A.M)
DESCRIPTION:
URL:https://www.dsabrevard.org/event/adult-fitness-class/2030-02-06/
LOCATION:Trinity Fitness Suntree\, 7245 Waelti Dr Suite 3-7\, Melbourne\, FL\, 32940\, United States
END:VEVENT
END:VCALENDAR